BEGIN:VCALENDAR
CALSCALE:GREGORIAN
PRODID:-//Ben Fortuna//iCal4j 1.0//EN
VERSION:2.0
BEGIN:VEVENT
DTSTAMP:20260423T010629Z
DTSTART:20260303T100000
DTEND:20260303T120000
SUMMARY:HB 5003 -  State Of Connecticut \n \ngeneral Assembly \n \n \nlab
 or And Public Employees Commitee \nlegislative Office Building\, Room 38
 00 \nhartford\, Ct 06106-1591 \ntelephone (860) 240-0540 \n \nlabor And 
 Public Employees Committee  \n \npublic Hearing Agenda \n \ntuesday\, Ma
 rch 3\, 2026  \n \n10:00 Am In Room 1d Of The Lob And Zoom And Youtube L
 ive  \n \nregister To Speak  Submit Written Testimony  Youtube Live  \n 
 \n \ni. Bills For Review \n1. S.b. No. 345 (raised) An Act Concerning Br
 eastfeeding In The \nworkplace\, Pre And Post-shift Hours And Establishi
 ng A Task \nforce To Study Workplace Heat Safety Standards. \n2. S.b. No
 . 346 (raised) An Act Concerning The Modifications To The \ngovernor's W
 orkforce Council. \n3. S.b. No. 347 (raised) An Act Increasing The Thres
 hold Amount \nfor Felony Unemployment Compensation Fraud. \n4. S.b. No. 
 348 (raised) An Act Concerning Portal-to-portal \nworkers' Compensation 
 Coverage For Public Works \ndepartment Employees. \n5. S.b. No. 349 (rai
 sed) An Act Concerning Modifications To The \nfirefighters Cancer Relief
  Fund. \n6. S.b. No. 350 (raised) An Act Increasing The Per Diem Rate Fo
 r \nmembers Of The State Board Of Labor Relations And \ncompensation For
  Members Of The Board Of Mediation And \narbitration. \n7. S.b. No. 351 
 (raised) An Act Establishing A Just Cause Standard \nfor Teacher Termina
 tion Decisions And Requiring Termination \nhearings To Be Before A Neutr
 al Arbitrator. \n8. S.b. No. 352 (raised) An Act Concerning The Minimum 
 Fair Wage \nand Persons Employed At Cannabis Establishments. \n9. S.b. N
 o. 353 (raised) An Act Concerning Reasonable \naccommodations In The Wor
 kplace For Conditions Related To \nmenopause. \n10. S.b. No. 355 (raised
 ) An Act Concerning Limitations On The Use \nof Nondisclosure Agreements
 . \n11. S.b. No. 356 (raised) An Act Concerning Electronic Filing Of \nc
 ertified Payroll And Daily Logs For Certain Public Works \nprojects. \n1
 2. S.b. No. 358 (raised) An Act Concerning The Retention Of \nservice Co
 ntract Workers. \n13. H.b. No. 5003 (raised) An Act Concerning Workforce
  \ndevelopment And Working Conditions In The State. \n14. H.b. No. 5382 
 (raised) An Act Requiring The Comptroller To \nconduct A Study Of Health
  Insurance Coverage For Retired \npolice Officers And Firefighters. \n15
 . H.b. No. 5383 (raised) An Act Concerning The Legislative \ncommissione
 rs' Recommendations For Minor And Technical \nrevisions To Statutes Conc
 erning Labor. \n16. H.b. No. 5384 (raised) An Act Concerning Hazard Pens
 ions For \ncertain Judicial Employees. \n17. H.b. No. 5385 (raised) An A
 ct Concerning Undue Delay In \nworkers' Compensation Claims By Police Of
 ficers And \nfirefighters. \n18. H.b. No. 5386 (raised) An Act Requiring
  Paycheck Transparency. \n19. H.b. No. 5387 (raised) An Act Concerning D
 isclosure Of Wage \nranges And Benefits On Public And Internal Job \nadv
 ertisements. \n20. H.b. No. 5388 (raised) An Act Concerning Processing F
 ees For \nmedical Records For Applications For Disability Retirement. \n
  \n \n \n - ROOM 1D
DESCRIPTION:HB 5003 -  State Of Connecticut \n \ngeneral Assembly \n \n \
 nlabor And Public Employees Commitee \nlegislative Office Building\, Roo
 m 3800 \nhartford\, Ct 06106-1591 \ntelephone (860) 240-0540 \n \nlabor 
 And Public Employees Committee  \n \npublic Hearing Agenda \n \ntuesday\
 , March 3\, 2026  \n \n10:00 Am In Room 1d Of The Lob And Zoom And Youtu
 be Live  \n \nregister To Speak  Submit Written Testimony  Youtube Live 
  \n \n \ni. Bills For Review \n1. S.b. No. 345 (raised) An Act Concernin
 g Breastfeeding In The \nworkplace\, Pre And Post-shift Hours And Establ
 ishing A Task \nforce To Study Workplace Heat Safety Standards. \n2. S.b
 . No. 346 (raised) An Act Concerning The Modifications To The \ngovernor
 's Workforce Council. \n3. S.b. No. 347 (raised) An Act Increasing The T
 hreshold Amount \nfor Felony Unemployment Compensation Fraud. \n4. S.b. 
 No. 348 (raised) An Act Concerning Portal-to-portal \nworkers' Compensat
 ion Coverage For Public Works \ndepartment Employees. \n5. S.b. No. 349 
 (raised) An Act Concerning Modifications To The \nfirefighters Cancer Re
 lief Fund. \n6. S.b. No. 350 (raised) An Act Increasing The Per Diem Rat
 e For \nmembers Of The State Board Of Labor Relations And \ncompensation
  For Members Of The Board Of Mediation And \narbitration. \n7. S.b. No. 
 351 (raised) An Act Establishing A Just Cause Standard \nfor Teacher Ter
 mination Decisions And Requiring Termination \nhearings To Be Before A N
 eutral Arbitrator. \n8. S.b. No. 352 (raised) An Act Concerning The Mini
 mum Fair Wage \nand Persons Employed At Cannabis Establishments. \n9. S.
 b. No. 353 (raised) An Act Concerning Reasonable \naccommodations In The
  Workplace For Conditions Related To \nmenopause. \n10. S.b. No. 355 (ra
 ised) An Act Concerning Limitations On The Use \nof Nondisclosure Agreem
 ents. \n11. S.b. No. 356 (raised) An Act Concerning Electronic Filing Of
  \ncertified Payroll And Daily Logs For Certain Public Works \nprojects.
  \n12. S.b. No. 358 (raised) An Act Concerning The Retention Of \nservic
 e Contract Workers. \n13. H.b. No. 5003 (raised) An Act Concerning Workf
 orce \ndevelopment And Working Conditions In The State. \n14. H.b. No. 5
 382 (raised) An Act Requiring The Comptroller To \nconduct A Study Of He
 alth Insurance Coverage For Retired \npolice Officers And Firefighters. 
 \n15. H.b. No. 5383 (raised) An Act Concerning The Legislative \ncommiss
 ioners' Recommendations For Minor And Technical \nrevisions To Statutes 
 Concerning Labor. \n16. H.b. No. 5384 (raised) An Act Concerning Hazard 
 Pensions For \ncertain Judicial Employees. \n17. H.b. No. 5385 (raised) 
 An Act Concerning Undue Delay In \nworkers' Compensation Claims By Polic
 e Officers And \nfirefighters. \n18. H.b. No. 5386 (raised) An Act Requi
 ring Paycheck Transparency. \n19. H.b. No. 5387 (raised) An Act Concerni
 ng Disclosure Of Wage \nranges And Benefits On Public And Internal Job \
 nadvertisements. \n20. H.b. No. 5388 (raised) An Act Concerning Processi
 ng Fees For \nmedical Records For Applications For Disability Retirement
 . \n \n \n \n - ROOM 1D
TZID:America/New_York
UID:20260423T010629Z-uidGen@2607:f2f8:ae78:0:0:0:dbef:6717%eth0
END:VEVENT
BEGIN:VALARM
TRIGGER:-PT15M
ACTION:DISPLAY
DESCRIPTION:HB 5003 -  State Of Connecticut \n \ngeneral Assembly \n \n \
 nlabor And Public Employees Commitee \nlegislative Office Building\, Roo
 m 3800 \nhartford\, Ct 06106-1591 \ntelephone (860) 240-0540 \n \nlabor 
 And Public Employees Committee  \n \npublic Hearing Agenda \n \ntuesday\
 , March 3\, 2026  \n \n10:00 Am In Room 1d Of The Lob And Zoom And Youtu
 be Live  \n \nregister To Speak  Submit Written Testimony  Youtube Live 
  \n \n \ni. Bills For Review \n1. S.b. No. 345 (raised) An Act Concernin
 g Breastfeeding In The \nworkplace\, Pre And Post-shift Hours And Establ
 ishing A Task \nforce To Study Workplace Heat Safety Standards. \n2. S.b
 . No. 346 (raised) An Act Concerning The Modifications To The \ngovernor
 's Workforce Council. \n3. S.b. No. 347 (raised) An Act Increasing The T
 hreshold Amount \nfor Felony Unemployment Compensation Fraud. \n4. S.b. 
 No. 348 (raised) An Act Concerning Portal-to-portal \nworkers' Compensat
 ion Coverage For Public Works \ndepartment Employees. \n5. S.b. No. 349 
 (raised) An Act Concerning Modifications To The \nfirefighters Cancer Re
 lief Fund. \n6. S.b. No. 350 (raised) An Act Increasing The Per Diem Rat
 e For \nmembers Of The State Board Of Labor Relations And \ncompensation
  For Members Of The Board Of Mediation And \narbitration. \n7. S.b. No. 
 351 (raised) An Act Establishing A Just Cause Standard \nfor Teacher Ter
 mination Decisions And Requiring Termination \nhearings To Be Before A N
 eutral Arbitrator. \n8. S.b. No. 352 (raised) An Act Concerning The Mini
 mum Fair Wage \nand Persons Employed At Cannabis Establishments. \n9. S.
 b. No. 353 (raised) An Act Concerning Reasonable \naccommodations In The
  Workplace For Conditions Related To \nmenopause. \n10. S.b. No. 355 (ra
 ised) An Act Concerning Limitations On The Use \nof Nondisclosure Agreem
 ents. \n11. S.b. No. 356 (raised) An Act Concerning Electronic Filing Of
  \ncertified Payroll And Daily Logs For Certain Public Works \nprojects.
  \n12. S.b. No. 358 (raised) An Act Concerning The Retention Of \nservic
 e Contract Workers. \n13. H.b. No. 5003 (raised) An Act Concerning Workf
 orce \ndevelopment And Working Conditions In The State. \n14. H.b. No. 5
 382 (raised) An Act Requiring The Comptroller To \nconduct A Study Of He
 alth Insurance Coverage For Retired \npolice Officers And Firefighters. 
 \n15. H.b. No. 5383 (raised) An Act Concerning The Legislative \ncommiss
 ioners' Recommendations For Minor And Technical \nrevisions To Statutes 
 Concerning Labor. \n16. H.b. No. 5384 (raised) An Act Concerning Hazard 
 Pensions For \ncertain Judicial Employees. \n17. H.b. No. 5385 (raised) 
 An Act Concerning Undue Delay In \nworkers' Compensation Claims By Polic
 e Officers And \nfirefighters. \n18. H.b. No. 5386 (raised) An Act Requi
 ring Paycheck Transparency. \n19. H.b. No. 5387 (raised) An Act Concerni
 ng Disclosure Of Wage \nranges And Benefits On Public And Internal Job \
 nadvertisements. \n20. H.b. No. 5388 (raised) An Act Concerning Processi
 ng Fees For \nmedical Records For Applications For Disability Retirement
 . \n \n \n \n - ROOM 1D
END:VALARM
END:VCALENDAR
