BEGIN:VCALENDAR
CALSCALE:GREGORIAN
PRODID:-//Ben Fortuna//iCal4j 1.0//EN
VERSION:2.0
BEGIN:VEVENT
DTSTAMP:20260423T210929Z
DTSTART:20260429T150000
DTEND:20260429T170000
SUMMARY:American Council of Engineering Companies of CT (ACEC-CT) Espress
 o Legislative Reception - CAP Room 310
DESCRIPTION:American Council of Engineering Companies of CT (ACEC-CT) Esp
 resso Legislative Reception - CAP Room 310
TZID:America/New_York
UID:20260423T210930Z-uidGen@2607:f2f8:ae78:0:0:0:dbef:6717%eth0
END:VEVENT
BEGIN:VALARM
TRIGGER:-PT15M
ACTION:DISPLAY
DESCRIPTION:American Council of Engineering Companies of CT (ACEC-CT) Esp
 resso Legislative Reception - CAP Room 310
END:VALARM
END:VCALENDAR
