BEGIN:VCALENDAR
CALSCALE:GREGORIAN
PRODID:-//Ben Fortuna//iCal4j 1.0//EN
VERSION:2.0
BEGIN:VEVENT
DTSTAMP:20260423T184920Z
DTSTART:20260430T113000
DTEND:20260430T133000
SUMMARY:Joint Council of Fire Service Organizations: Fire Service Day at 
 the Capitol - CAP Lobby-East
DESCRIPTION:Joint Council of Fire Service Organizations: Fire Service Day
  at the Capitol - CAP Lobby-East
TZID:America/New_York
UID:20260423T184922Z-uidGen@2607:f2f8:ae78:0:0:0:dbef:6717%eth0
END:VEVENT
BEGIN:VALARM
TRIGGER:-PT15M
ACTION:DISPLAY
DESCRIPTION:Joint Council of Fire Service Organizations: Fire Service Day
  at the Capitol - CAP Lobby-East
END:VALARM
END:VCALENDAR
