BEGIN:VCALENDAR
CALSCALE:GREGORIAN
PRODID:-//Ben Fortuna//iCal4j 1.0//EN
VERSION:2.0
BEGIN:VEVENT
DTSTAMP:20260422T210320Z
DTSTART:20260429T120000
DTEND:20260429T140000
SUMMARY:Consulate General of Japan in Boston: Legislative Reception - CAP
  Lobby-East
DESCRIPTION:Consulate General of Japan in Boston: Legislative Reception -
  CAP Lobby-East
TZID:America/New_York
UID:20260422T210322Z-uidGen@2607:f2f8:ae78:0:0:0:dbef:6717%eth0
END:VEVENT
BEGIN:VALARM
TRIGGER:-PT15M
ACTION:DISPLAY
DESCRIPTION:Consulate General of Japan in Boston: Legislative Reception -
  CAP Lobby-East
END:VALARM
END:VCALENDAR
