BEGIN:VCALENDAR
CALSCALE:GREGORIAN
PRODID:-//Ben Fortuna//iCal4j 1.0//EN
VERSION:2.0
BEGIN:VEVENT
DTSTAMP:20260422T194755Z
DTSTART:20260429T110000
DTEND:20260429T130000
SUMMARY:Rep. McGee\, Dept. of Children & Familioes (DCF)\, & the Connecti
 cut Hospital Association (CHA) Press Conference on Connecticut's Safe Ha
 ven Law - Room 1C
DESCRIPTION:Rep. McGee\, Dept. of Children & Familioes (DCF)\, & the Conn
 ecticut Hospital Association (CHA) Press Conference on Connecticut's Saf
 e Haven Law - Room 1C
TZID:America/New_York
UID:20260422T194755Z-uidGen@2607:f2f8:ae78:0:0:0:dbef:6717%eth0
END:VEVENT
BEGIN:VALARM
TRIGGER:-PT15M
ACTION:DISPLAY
DESCRIPTION:Rep. McGee\, Dept. of Children & Familioes (DCF)\, & the Conn
 ecticut Hospital Association (CHA) Press Conference on Connecticut's Saf
 e Haven Law - Room 1C
END:VALARM
END:VCALENDAR
