BEGIN:VCALENDAR
CALSCALE:GREGORIAN
PRODID:-//Ben Fortuna//iCal4j 1.0//EN
VERSION:2.0
BEGIN:VEVENT
DTSTAMP:20260422T190509Z
DTSTART:20260429T103000
DTEND:20260429T123000
SUMMARY:Rep Haddad: 27th Anniversary Reception for Connecticut-Taiwan Sis
 ter State Relationship - CAP Room 310
DESCRIPTION:Rep Haddad: 27th Anniversary Reception for Connecticut-Taiwan
  Sister State Relationship - CAP Room 310
TZID:America/New_York
UID:20260422T190510Z-uidGen@2607:f2f8:ae78:0:0:0:dbef:6717%eth0
END:VEVENT
BEGIN:VALARM
TRIGGER:-PT15M
ACTION:DISPLAY
DESCRIPTION:Rep Haddad: 27th Anniversary Reception for Connecticut-Taiwan
  Sister State Relationship - CAP Room 310
END:VALARM
END:VCALENDAR
