BEGIN:VCALENDAR
CALSCALE:GREGORIAN
PRODID:-//Ben Fortuna//iCal4j 1.0//EN
VERSION:2.0
BEGIN:VEVENT
DTSTAMP:20260422T190505Z
DTSTART:20260423T140000
DTEND:20260423T160000
SUMMARY:Attorney General William Tong\, Rep. Stafstrom and Rep Fishbein P
 ress Conference on HB5312 - Room 1E
DESCRIPTION:Attorney General William Tong\, Rep. Stafstrom and Rep Fishbe
 in Press Conference on HB5312 - Room 1E
TZID:America/New_York
UID:20260422T190506Z-uidGen@2607:f2f8:ae78:0:0:0:dbef:6717%eth0
END:VEVENT
BEGIN:VALARM
TRIGGER:-PT15M
ACTION:DISPLAY
DESCRIPTION:Attorney General William Tong\, Rep. Stafstrom and Rep Fishbe
 in Press Conference on HB5312 - Room 1E
END:VALARM
END:VCALENDAR
