BEGIN:VCALENDAR
CALSCALE:GREGORIAN
PRODID:-//Ben Fortuna//iCal4j 1.0//EN
VERSION:2.0
BEGIN:VEVENT
DTSTAMP:20260422T182427Z
DTSTART:20260423T120000
DTEND:20260423T140000
SUMMARY:Rep. Felipe & CT Tenants Union and Collaborative Center for Justi
 ce Press Conference - CAP Grounds East
DESCRIPTION:Rep. Felipe & CT Tenants Union and Collaborative Center for J
 ustice Press Conference - CAP Grounds East
TZID:America/New_York
UID:20260422T182428Z-uidGen@2607:f2f8:ae78:0:0:0:dbef:6717%eth0
END:VEVENT
BEGIN:VALARM
TRIGGER:-PT15M
ACTION:DISPLAY
DESCRIPTION:Rep. Felipe & CT Tenants Union and Collaborative Center for J
 ustice Press Conference - CAP Grounds East
END:VALARM
END:VCALENDAR
