BEGIN:VCALENDAR
CALSCALE:GREGORIAN
PRODID:-//Ben Fortuna//iCal4j 1.0//EN
VERSION:2.0
BEGIN:VEVENT
DTSTAMP:20260422T155524Z
DTSTART:20260430T093000
DTEND:20260430T113000
SUMMARY:St. Thomas and St. Timothy School Choir Groups: Capitol Visit and
  Choral Performance - CAP Hall of Flags
DESCRIPTION:St. Thomas and St. Timothy School Choir Groups: Capitol Visit
  and Choral Performance - CAP Hall of Flags
TZID:America/New_York
UID:20260422T155527Z-uidGen@2607:f2f8:ae78:0:0:0:dbef:6717%eth0
END:VEVENT
BEGIN:VALARM
TRIGGER:-PT15M
ACTION:DISPLAY
DESCRIPTION:St. Thomas and St. Timothy School Choir Groups: Capitol Visit
  and Choral Performance - CAP Hall of Flags
END:VALARM
END:VCALENDAR
