BEGIN:VCALENDAR
CALSCALE:GREGORIAN
PRODID:-//Ben Fortuna//iCal4j 1.0//EN
VERSION:2.0
BEGIN:VEVENT
DTSTAMP:20260422T155524Z
DTSTART:20260427T090000
DTEND:20260427T110000
SUMMARY:Christian Community Action: Benefit Cliff Breakfast - Second Floo
 r Atrium
DESCRIPTION:Christian Community Action: Benefit Cliff Breakfast - Second 
 Floor Atrium
TZID:America/New_York
UID:20260422T155525Z-uidGen@2607:f2f8:ae78:0:0:0:dbef:6717%eth0
END:VEVENT
BEGIN:VALARM
TRIGGER:-PT15M
ACTION:DISPLAY
DESCRIPTION:Christian Community Action: Benefit Cliff Breakfast - Second 
 Floor Atrium
END:VALARM
END:VCALENDAR
