BEGIN:VCALENDAR
CALSCALE:GREGORIAN
PRODID:-//Ben Fortuna//iCal4j 1.0//EN
VERSION:2.0
BEGIN:VEVENT
DTSTAMP:20260422T151950Z
DTSTART:20260504T100000
DTEND:20260504T120000
SUMMARY:DMHAS & UConn School of Social Work: Survey Recruitment for 988 E
 valuation and Awareness - CAP Capitol Rotunda
DESCRIPTION:DMHAS & UConn School of Social Work: Survey Recruitment for 9
 88 Evaluation and Awareness - CAP Capitol Rotunda
TZID:America/New_York
UID:20260422T151951Z-uidGen@2607:f2f8:ae78:0:0:0:dbef:6717%eth0
END:VEVENT
BEGIN:VALARM
TRIGGER:-PT15M
ACTION:DISPLAY
DESCRIPTION:DMHAS & UConn School of Social Work: Survey Recruitment for 9
 88 Evaluation and Awareness - CAP Capitol Rotunda
END:VALARM
END:VCALENDAR
