BEGIN:VCALENDAR
CALSCALE:GREGORIAN
PRODID:-//Ben Fortuna//iCal4j 1.0//EN
VERSION:2.0
BEGIN:VEVENT
DTSTAMP:20260422T135726Z
DTSTART:20260430T100000
DTEND:20260430T120000
SUMMARY:Veterans Committee & Save a Suit: Press Conference and Suit Drive
  - CAP South Portico
DESCRIPTION:Veterans Committee & Save a Suit: Press Conference and Suit D
 rive - CAP South Portico
TZID:America/New_York
UID:20260422T135729Z-uidGen@2607:f2f8:ae78:0:0:0:dbef:6717%eth0
END:VEVENT
BEGIN:VALARM
TRIGGER:-PT15M
ACTION:DISPLAY
DESCRIPTION:Veterans Committee & Save a Suit: Press Conference and Suit D
 rive - CAP South Portico
END:VALARM
END:VCALENDAR
