BEGIN:VCALENDAR
CALSCALE:GREGORIAN
PRODID:-//Ben Fortuna//iCal4j 1.0//EN
VERSION:2.0
BEGIN:VEVENT
DTSTAMP:20260422T132457Z
DTSTART:20260505T100000
DTEND:20260505T120000
SUMMARY:Trinity Health of NE Putting on AIRS Program: World Asthma Day of
  Awareness - CAP Capitol Rotunda
DESCRIPTION:Trinity Health of NE Putting on AIRS Program: World Asthma Da
 y of Awareness - CAP Capitol Rotunda
TZID:America/New_York
UID:20260422T132458Z-uidGen@2607:f2f8:ae78:0:0:0:dbef:6717%eth0
END:VEVENT
BEGIN:VALARM
TRIGGER:-PT15M
ACTION:DISPLAY
DESCRIPTION:Trinity Health of NE Putting on AIRS Program: World Asthma Da
 y of Awareness - CAP Capitol Rotunda
END:VALARM
END:VCALENDAR
