BEGIN:VCALENDAR
CALSCALE:GREGORIAN
PRODID:-//Ben Fortuna//iCal4j 1.0//EN
VERSION:2.0
BEGIN:VEVENT
DTSTAMP:20260422T132456Z
DTSTART:20260422T090000
DTEND:20260422T110000
SUMMARY:CT Brain Tumor Alliance Lobby Day - CAP Capitol Rotunda
DESCRIPTION:CT Brain Tumor Alliance Lobby Day - CAP Capitol Rotunda
TZID:America/New_York
UID:20260422T132456Z-uidGen@2607:f2f8:ae78:0:0:0:dbef:6717%eth0
END:VEVENT
BEGIN:VALARM
TRIGGER:-PT15M
ACTION:DISPLAY
DESCRIPTION:CT Brain Tumor Alliance Lobby Day - CAP Capitol Rotunda
END:VALARM
END:VCALENDAR
