BEGIN:VCALENDAR
CALSCALE:GREGORIAN
PRODID:-//Ben Fortuna//iCal4j 1.0//EN
VERSION:2.0
BEGIN:VEVENT
DTSTAMP:20260423T173420Z
DTSTART:20260424T100000
DTEND:20260424T120000
SUMMARY: State of Connecticut \nGENERAL ASSEMBLY  \n \n \n \n \n   \n \n 
 \n \nJUDICIARY COMMITTEE \n \nMEETING AGENDA \n \nFriday\, April 24\, 20
 26  \n \nIMMEDIATELY FOLLOWING A PUBLIC HEARING AT  \n10:00 AM IN ROOM 2
 E OF THE LOB AND ZOOM AND YOUTUBE LIVE  \n \nI. CONVENE MEETING \nII. RE
 MARKS BY THE CHAIRS \nIII. REVIEW OF COMPENSATION AWARD FOR WRONGFUL INC
 ARCERATION \n1. REVIEW OF THE CLAIMS COMMISSIONER'S COMPENSATION AWARD T
 O \nMACEO STREATER WITH RESPECT TO HIS CLAIM AGAINST THE STATE \nFOR WRO
 NGFUL INCARCERATION. \nIV. BILLS FOR CONSIDERATION FROM THE HOUSE AND SE
 NATE \n2. Substitute for S.B. No. 116 (RAISED) (File No. 169) AN ACT CON
 CERNING \nTHE PREVENTION OF HUMAN TRAFFICKING.  \n4/22/2026  Immediate T
 ransmittal  (GL\,APP\,JUD) \n3. S.B. No. 342 (RAISED) (File No. 223) AN 
 ACT CONCERNING HEALTH \nCOVERAGE. (As amended by Senate Amendment Schedu
 le "A").  \n4/22/2026  Immediate Transmittal  (INS\,APP\,JUD) \n4. Subst
 itute for S.B. No. 457 (RAISED) (File No. 479) AN ACT CONCERNING \nTHE S
 TATE'S BOTTLE BILL. (As amended by Senate Amendment Schedule \n"A").  \n
 4/21/2026  Immediate Transmittal  (ENV\,JUD) \n5. Substitute for S.B. No
 . 481 (RAISED) (File No. 481) AN ACT REQUIRING \nNURSING HOME OWNERSHIP 
 TRANSPARENCY\, FINANCIAL SAFEGUARDS \nPROTECTING NURSING HOME OPERATIONS
  AND PROPERTY AND \nPROHIBITING REQUIRED ARBITRATION AGREEMENTS. \n4/21/
 2026  Immediate Transmittal  (HS\,JUD) \nV. ANY OTHER BILL OR RESOLUTION
  THAT IS LEGALLY BEFORE THE \nCOMMITTEE  \nVI. ANNOUNCEMENT OF TIME AND 
 DATE OF NEXT MEETING \nVII. ADJOURNMENT \n - ROOM 2E
DESCRIPTION: State of Connecticut \nGENERAL ASSEMBLY  \n \n \n \n \n   \n
  \n \n \nJUDICIARY COMMITTEE \n \nMEETING AGENDA \n \nFriday\, April 24\
 , 2026  \n \nIMMEDIATELY FOLLOWING A PUBLIC HEARING AT  \n10:00 AM IN RO
 OM 2E OF THE LOB AND ZOOM AND YOUTUBE LIVE  \n \nI. CONVENE MEETING \nII
 . REMARKS BY THE CHAIRS \nIII. REVIEW OF COMPENSATION AWARD FOR WRONGFUL
  INCARCERATION \n1. REVIEW OF THE CLAIMS COMMISSIONER'S COMPENSATION AWA
 RD TO \nMACEO STREATER WITH RESPECT TO HIS CLAIM AGAINST THE STATE \nFOR
  WRONGFUL INCARCERATION. \nIV. BILLS FOR CONSIDERATION FROM THE HOUSE AN
 D SENATE \n2. Substitute for S.B. No. 116 (RAISED) (File No. 169) AN ACT
  CONCERNING \nTHE PREVENTION OF HUMAN TRAFFICKING.  \n4/22/2026  Immedia
 te Transmittal  (GL\,APP\,JUD) \n3. S.B. No. 342 (RAISED) (File No. 223)
  AN ACT CONCERNING HEALTH \nCOVERAGE. (As amended by Senate Amendment Sc
 hedule "A").  \n4/22/2026  Immediate Transmittal  (INS\,APP\,JUD) \n4. S
 ubstitute for S.B. No. 457 (RAISED) (File No. 479) AN ACT CONCERNING \nT
 HE STATE'S BOTTLE BILL. (As amended by Senate Amendment Schedule \n"A").
   \n4/21/2026  Immediate Transmittal  (ENV\,JUD) \n5. Substitute for S.B
 . No. 481 (RAISED) (File No. 481) AN ACT REQUIRING \nNURSING HOME OWNERS
 HIP TRANSPARENCY\, FINANCIAL SAFEGUARDS \nPROTECTING NURSING HOME OPERAT
 IONS AND PROPERTY AND \nPROHIBITING REQUIRED ARBITRATION AGREEMENTS. \n4
 /21/2026  Immediate Transmittal  (HS\,JUD) \nV. ANY OTHER BILL OR RESOLU
 TION THAT IS LEGALLY BEFORE THE \nCOMMITTEE  \nVI. ANNOUNCEMENT OF TIME 
 AND DATE OF NEXT MEETING \nVII. ADJOURNMENT \n - ROOM 2E
TZID:America/New_York
UID:20260423T173420Z-uidGen@2607:f2f8:ae78:0:0:0:dbef:6717%eth0
END:VEVENT
BEGIN:VALARM
TRIGGER:-PT15M
ACTION:DISPLAY
DESCRIPTION: State of Connecticut \nGENERAL ASSEMBLY  \n \n \n \n \n   \n
  \n \n \nJUDICIARY COMMITTEE \n \nMEETING AGENDA \n \nFriday\, April 24\
 , 2026  \n \nIMMEDIATELY FOLLOWING A PUBLIC HEARING AT  \n10:00 AM IN RO
 OM 2E OF THE LOB AND ZOOM AND YOUTUBE LIVE  \n \nI. CONVENE MEETING \nII
 . REMARKS BY THE CHAIRS \nIII. REVIEW OF COMPENSATION AWARD FOR WRONGFUL
  INCARCERATION \n1. REVIEW OF THE CLAIMS COMMISSIONER'S COMPENSATION AWA
 RD TO \nMACEO STREATER WITH RESPECT TO HIS CLAIM AGAINST THE STATE \nFOR
  WRONGFUL INCARCERATION. \nIV. BILLS FOR CONSIDERATION FROM THE HOUSE AN
 D SENATE \n2. Substitute for S.B. No. 116 (RAISED) (File No. 169) AN ACT
  CONCERNING \nTHE PREVENTION OF HUMAN TRAFFICKING.  \n4/22/2026  Immedia
 te Transmittal  (GL\,APP\,JUD) \n3. S.B. No. 342 (RAISED) (File No. 223)
  AN ACT CONCERNING HEALTH \nCOVERAGE. (As amended by Senate Amendment Sc
 hedule "A").  \n4/22/2026  Immediate Transmittal  (INS\,APP\,JUD) \n4. S
 ubstitute for S.B. No. 457 (RAISED) (File No. 479) AN ACT CONCERNING \nT
 HE STATE'S BOTTLE BILL. (As amended by Senate Amendment Schedule \n"A").
   \n4/21/2026  Immediate Transmittal  (ENV\,JUD) \n5. Substitute for S.B
 . No. 481 (RAISED) (File No. 481) AN ACT REQUIRING \nNURSING HOME OWNERS
 HIP TRANSPARENCY\, FINANCIAL SAFEGUARDS \nPROTECTING NURSING HOME OPERAT
 IONS AND PROPERTY AND \nPROHIBITING REQUIRED ARBITRATION AGREEMENTS. \n4
 /21/2026  Immediate Transmittal  (HS\,JUD) \nV. ANY OTHER BILL OR RESOLU
 TION THAT IS LEGALLY BEFORE THE \nCOMMITTEE  \nVI. ANNOUNCEMENT OF TIME 
 AND DATE OF NEXT MEETING \nVII. ADJOURNMENT \n - ROOM 2E
END:VALARM
END:VCALENDAR
